BEGIN:VCALENDAR
VERSION:2.0
PRODID:-//Plone.org//NONSGML plone.app.event//EN
X-WR-TIMEZONE:Europe/Madrid
BEGIN:VEVENT
SUMMARY:Caga Tió
DTSTART;TZID=Europe/Madrid;VALUE=DATE-TIME:20081221T190000
DTEND;TZID=Europe/Madrid;VALUE=DATE-TIME:20081221T200000
DTSTAMP;VALUE=DATE-TIME:20260425T141340Z
UID:0f4a152ad90f69473c963debbf99142e
CREATED;VALUE=DATE-TIME:20081221T000000Z
LOCATION:riera Sant Domènec
ORGANIZER:Els 9's Joves de la Pàrroquia de St. Pere i St. Pau
COMMENT:Durada: de 19.00 a 21.00 hores
URL:https://www.canetdemar.cat/document.php?id=4774
END:VEVENT
END:VCALENDAR