BEGIN:VCALENDAR
VERSION:2.0
PRODID:-//Plone.org//NONSGML plone.app.event//EN
X-WR-TIMEZONE:Europe/Madrid
BEGIN:VEVENT
SUMMARY:Audicions de Nadal dels alumnes de l'Escola de Música
DTSTART;TZID=Europe/Madrid;VALUE=DATE-TIME:20081218T190000
DTEND;TZID=Europe/Madrid;VALUE=DATE-TIME:20081218T200000
DTSTAMP;VALUE=DATE-TIME:20260424T175819Z
UID:00e44f8821345dfd1cb41b549bd06497
CREATED;VALUE=DATE-TIME:20081218T000000Z
LOCATION:Auditori Jaume Dotras i Serrabella
ORGANIZER:Escola de Música
URL:https://www.canetdemar.cat/document.php?id=4760
END:VEVENT
END:VCALENDAR