BEGIN:VCALENDAR
VERSION:2.0
PRODID:-//Plone.org//NONSGML plone.app.event//EN
X-WR-TIMEZONE:Europe/Madrid
BEGIN:VEVENT
SUMMARY:El Canet Cançó per als més menuts es farà aquest dissabte
DTSTART;TZID=Europe/Madrid;VALUE=DATE-TIME:20030920T120000
DTEND;TZID=Europe/Madrid;VALUE=DATE-TIME:20030920T130000
DTSTAMP;VALUE=DATE-TIME:20260422T053559Z
UID:635af86c85234dc009439875972cca28
CREATED;VALUE=DATE-TIME:20030920T000000Z
URL:https://www.canetdemar.cat/document.php?id=476
END:VEVENT
END:VCALENDAR