BEGIN:VCALENDAR
VERSION:2.0
PRODID:-//Plone.org//NONSGML plone.app.event//EN
X-WR-TIMEZONE:Europe/Madrid
BEGIN:VEVENT
SUMMARY:Audicions de Nadal dels alumnes de l'Escola de Música
DTSTART;TZID=Europe/Madrid;VALUE=DATE-TIME:20081217T190000
DTEND;TZID=Europe/Madrid;VALUE=DATE-TIME:20081217T200000
DTSTAMP;VALUE=DATE-TIME:20260421T123350Z
UID:60138c7b6fbbd4e08d3aa97b97260298
CREATED;VALUE=DATE-TIME:20081217T000000Z
LOCATION:Auditori Jaume Dotras i Serrabella
ORGANIZER:Escola de Música
URL:https://www.canetdemar.cat/document.php?id=4759
END:VEVENT
END:VCALENDAR