BEGIN:VCALENDAR
VERSION:2.0
PRODID:-//Plone.org//NONSGML plone.app.event//EN
X-WR-TIMEZONE:Europe/Madrid
BEGIN:VEVENT
SUMMARY:Cinema jove: Stardust
DTSTART;TZID=Europe/Madrid;VALUE=DATE-TIME:20081206T220000
DTEND;TZID=Europe/Madrid;VALUE=DATE-TIME:20081206T230000
DTSTAMP;VALUE=DATE-TIME:20260423T064836Z
UID:f063f49056f6c67662ffe189b0694825
CREATED;VALUE=DATE-TIME:20081206T000000Z
LOCATION:Masoveria de Vil·la Flora
ORGANIZER:Àrea de Joventut
COMMENT:Preu: 1 euro
URL:https://www.canetdemar.cat/document.php?id=4748
END:VEVENT
END:VCALENDAR