BEGIN:VCALENDAR
VERSION:2.0
PRODID:-//Plone.org//NONSGML plone.app.event//EN
X-WR-TIMEZONE:Europe/Madrid
BEGIN:VEVENT
SUMMARY:L'hora del conte
DTSTART;TZID=Europe/Madrid;VALUE=DATE-TIME:20090314T120000
DTEND;TZID=Europe/Madrid;VALUE=DATE-TIME:20090314T130000
DTSTAMP;VALUE=DATE-TIME:20260422T234757Z
UID:ae33a79f56a4c2b16405e8c6d7859264
CREATED;VALUE=DATE-TIME:20090314T000000Z
CATEGORIES:Infantils
LOCATION:Biblioteca
ORGANIZER:Biblioteca P. Gual i Pujadas
URL:https://www.canetdemar.cat/document.php?id=4745
END:VEVENT
END:VCALENDAR