BEGIN:VCALENDAR
VERSION:2.0
PRODID:-//Plone.org//NONSGML plone.app.event//EN
X-WR-TIMEZONE:Europe/Madrid
BEGIN:VEVENT
SUMMARY:Curs de monitor/a de lleure
DTSTART;TZID=Europe/Madrid;VALUE=DATE-TIME:20090328T000000
DTEND;TZID=Europe/Madrid;VALUE=DATE-TIME:20090328T010000
DTSTAMP;VALUE=DATE-TIME:20260424T194740Z
UID:060a097c6b98f59ac61210bb017d518c
CREATED;VALUE=DATE-TIME:20090328T000000Z
ORGANIZER:Àrea de Joventut - El Puntdi
COMMENT:Preu: 178 euros
Durada: del 28 de març al 25 d'abril de 2009
URL:https://www.canetdemar.cat/document.php?id=4689
END:VEVENT
END:VCALENDAR