BEGIN:VCALENDAR
VERSION:2.0
PRODID:-//Plone.org//NONSGML plone.app.event//EN
X-WR-TIMEZONE:Europe/Madrid
BEGIN:VEVENT
SUMMARY:Taller d'informàtica bàsica
DTSTART;TZID=Europe/Madrid;VALUE=DATE-TIME:20081104T180000
DTEND;TZID=Europe/Madrid;VALUE=DATE-TIME:20081104T190000
DTSTAMP;VALUE=DATE-TIME:20260422T220256Z
UID:24d0813fc97146eb555a29efc7358170
CREATED;VALUE=DATE-TIME:20081104T000000Z
LOCATION:Aula d'informàtica de l'Escola de Teixits de Punt
ORGANIZER:Àrea de Joventut
COMMENT:Preu: 48 euros. Preu jove (de 16 a 30 anys) 24 euros
Durada: del 4 al 27 de novembre
URL:https://www.canetdemar.cat/document.php?id=4658
END:VEVENT
END:VCALENDAR