BEGIN:VCALENDAR
VERSION:2.0
PRODID:-//Plone.org//NONSGML plone.app.event//EN
X-WR-TIMEZONE:Europe/Madrid
BEGIN:VEVENT
SUMMARY:La música dels llibres
DTSTART;TZID=Europe/Madrid;VALUE=DATE-TIME:20081128T200000
DTEND;TZID=Europe/Madrid;VALUE=DATE-TIME:20081128T210000
DTSTAMP;VALUE=DATE-TIME:20260423T050558Z
UID:6279b7d3abe9845a8ba5d3e401e290e7
CREATED;VALUE=DATE-TIME:20081128T000000Z
LOCATION:Sala d'audiovisuals de la Biblioteca P. Gual i Pujadas
ORGANIZER:Escola de Música de Canet de Mar
URL:https://www.canetdemar.cat/document.php?id=4654
END:VEVENT
END:VCALENDAR