BEGIN:VCALENDAR
VERSION:2.0
PRODID:-//Plone.org//NONSGML plone.app.event//EN
X-WR-TIMEZONE:Europe/Madrid
BEGIN:VEVENT
SUMMARY:Teatre: La propia vida
DTSTART;TZID=Europe/Madrid;VALUE=DATE-TIME:20081129T213000
DTEND;TZID=Europe/Madrid;VALUE=DATE-TIME:20081129T223000
DTSTAMP;VALUE=DATE-TIME:20260423T114706Z
UID:5e172241f924294e995e88abb9d079d7
CREATED;VALUE=DATE-TIME:20081129T000000Z
LOCATION:Envelat de Vil·la Flora
ORGANIZER:Lamina Teatre
URL:https://www.canetdemar.cat/document.php?id=4625
END:VEVENT
END:VCALENDAR