BEGIN:VCALENDAR
VERSION:2.0
PRODID:-//Plone.org//NONSGML plone.app.event//EN
X-WR-TIMEZONE:Europe/Madrid
BEGIN:VEVENT
SUMMARY:Ball del diumenge
DTSTART;TZID=Europe/Madrid;VALUE=DATE-TIME:20081012T190000
DTEND;TZID=Europe/Madrid;VALUE=DATE-TIME:20081012T200000
DTSTAMP;VALUE=DATE-TIME:20260423T171347Z
UID:3011c4afd1da4709813c5647171e3ef4
CREATED;VALUE=DATE-TIME:20081012T000000Z
LOCATION:Envelat de Vil·la Flora
ORGANIZER:Amics del ball
URL:https://www.canetdemar.cat/document.php?id=4589
END:VEVENT
END:VCALENDAR