BEGIN:VCALENDAR
VERSION:2.0
PRODID:-//Plone.org//NONSGML plone.app.event//EN
X-WR-TIMEZONE:Europe/Madrid
BEGIN:VEVENT
SUMMARY:Exposició: Els Prats de Nepú
DTSTART;TZID=Europe/Madrid;VALUE=DATE-TIME:20081017T000000
DTEND;TZID=Europe/Madrid;VALUE=DATE-TIME:20081017T010000
DTSTAMP;VALUE=DATE-TIME:20260423T082155Z
UID:41ea1aeb8563651e7cd2552c1d5f3eab
CREATED;VALUE=DATE-TIME:20081017T000000Z
LOCATION:Sala d'exposicions municipal, plaça dels Americanos
ORGANIZER:Àrea de Medi ambient
URL:https://www.canetdemar.cat/document.php?id=4584
END:VEVENT
END:VCALENDAR