BEGIN:VCALENDAR
VERSION:2.0
PRODID:-//Plone.org//NONSGML plone.app.event//EN
X-WR-TIMEZONE:Europe/Madrid
BEGIN:VEVENT
SUMMARY:Revetlla de Festa Major
DTSTART;TZID=Europe/Madrid;VALUE=DATE-TIME:20080906T223000
DTEND;TZID=Europe/Madrid;VALUE=DATE-TIME:20080906T233000
DTSTAMP;VALUE=DATE-TIME:20260421T192107Z
UID:5eccf68de285a5a082f90fce724c714e
CREATED;VALUE=DATE-TIME:20080906T000000Z
LOCATION:Envelat de Vil·la Flora
ORGANIZER:Amics del ball
URL:https://www.canetdemar.cat/document.php?id=4550
END:VEVENT
END:VCALENDAR