BEGIN:VCALENDAR
VERSION:2.0
PRODID:-//Plone.org//NONSGML plone.app.event//EN
X-WR-TIMEZONE:Europe/Madrid
BEGIN:VEVENT
SUMMARY:Mercat d'intercanvi i 2a Trobada d'intercanvi de plaques de cava i Mercat de segona mà i col·leccionisme
DTSTART;TZID=Europe/Madrid;VALUE=DATE-TIME:20080928T100000
DTEND;TZID=Europe/Madrid;VALUE=DATE-TIME:20080928T110000
DTSTAMP;VALUE=DATE-TIME:20260426T000515Z
UID:15449b327404e45ff7158a3574879bdf
CREATED;VALUE=DATE-TIME:20080928T000000Z
LOCATION:Carrer Ample i Riera Sant Domènec
ORGANIZER:Àrees de Medi Ambient i Promoció Econòmica
COMMENT:Durada: De 10.00 a 14.00 hores
URL:https://www.canetdemar.cat/document.php?id=4520
END:VEVENT
END:VCALENDAR