BEGIN:VCALENDAR
VERSION:2.0
PRODID:-//Plone.org//NONSGML plone.app.event//EN
X-WR-TIMEZONE:Europe/Madrid
BEGIN:VEVENT
SUMMARY:Documental del mes
DTSTART;TZID=Europe/Madrid;VALUE=DATE-TIME:20080919T210000
DTEND;TZID=Europe/Madrid;VALUE=DATE-TIME:20080919T220000
DTSTAMP;VALUE=DATE-TIME:20260424T111251Z
UID:6f4d19f075662c832da7b5ba19f607f7
CREATED;VALUE=DATE-TIME:20080919T000000Z
LOCATION:Aula Magna de l'Escola Universitària de Teixits
ORGANIZER:ACPO
COMMENT:Preu: Gratuït
URL:https://www.canetdemar.cat/document.php?id=4516
END:VEVENT
END:VCALENDAR