BEGIN:VCALENDAR
VERSION:2.0
PRODID:-//Plone.org//NONSGML plone.app.event//EN
X-WR-TIMEZONE:Europe/Madrid
BEGIN:VEVENT
SUMMARY:Nit de teatre: Spamalot
DTSTART;TZID=Europe/Madrid;VALUE=DATE-TIME:20080917T181500
DTEND;TZID=Europe/Madrid;VALUE=DATE-TIME:20080917T191500
DTSTAMP;VALUE=DATE-TIME:20260422T072955Z
UID:e88608e97825a00c3d77b70cbef4521a
CREATED;VALUE=DATE-TIME:20080917T000000Z
LOCATION:Parada autobús Comediants
ORGANIZER:Àrea de Joventut - El Puntdi
COMMENT:Preu: entrada al teatre i autobús 45 euros
URL:https://www.canetdemar.cat/document.php?id=4475
END:VEVENT
END:VCALENDAR