BEGIN:VCALENDAR
VERSION:2.0
PRODID:-//Plone.org//NONSGML plone.app.event//EN
X-WR-TIMEZONE:Europe/Madrid
BEGIN:VEVENT
SUMMARY:Curs de cangurs
DTSTART;TZID=Europe/Madrid;VALUE=DATE-TIME:20081018T090000
DTEND;TZID=Europe/Madrid;VALUE=DATE-TIME:20081018T100000
DTSTAMP;VALUE=DATE-TIME:20260423T064725Z
UID:0cb6c5aaa34efbf0fe6e19e738db5a50
CREATED;VALUE=DATE-TIME:20081018T000000Z
ORGANIZER:Àrea de Joventut
COMMENT:Preu: 10 euros
URL:https://www.canetdemar.cat/document.php?id=4455
END:VEVENT
END:VCALENDAR