BEGIN:VCALENDAR
VERSION:2.0
PRODID:-//Plone.org//NONSGML plone.app.event//EN
X-WR-TIMEZONE:Europe/Madrid
BEGIN:VEVENT
SUMMARY:Ofici de Sant Pere, aviada de coloms i vermut popular
DTSTART;TZID=Europe/Madrid;VALUE=DATE-TIME:20080629T110000
DTEND;TZID=Europe/Madrid;VALUE=DATE-TIME:20080629T120000
DTSTAMP;VALUE=DATE-TIME:20260424T063535Z
UID:67f6035f0776ab247dad0c1799e7ed05
CREATED;VALUE=DATE-TIME:20080629T000000Z
LOCATION:Església parroquial
DESCRIPTION:Dintre dels actes organitzats per celebrar la Festa Major 2008
URL:https://www.canetdemar.cat/document.php?id=4319
END:VEVENT
END:VCALENDAR