BEGIN:VCALENDAR
VERSION:2.0
PRODID:-//Plone.org//NONSGML plone.app.event//EN
X-WR-TIMEZONE:Europe/Madrid
BEGIN:VEVENT
SUMMARY:Sortida: Nit d'òpera italiana
DTSTART;TZID=Europe/Madrid;VALUE=DATE-TIME:20080612T181500
DTEND;TZID=Europe/Madrid;VALUE=DATE-TIME:20080612T191500
DTSTAMP;VALUE=DATE-TIME:20260423T000115Z
UID:07b1b18e66f8686b4ad9718fa49b3ab6
CREATED;VALUE=DATE-TIME:20080612T000000Z
LOCATION:Parada autobús Comediants
ORGANIZER:Àrea de Joventut - El Puntdi
COMMENT:Preu: 42 euros autocar i entrada al teatre
URL:https://www.canetdemar.cat/document.php?id=4312
END:VEVENT
END:VCALENDAR