BEGIN:VCALENDAR
VERSION:2.0
PRODID:-//Plone.org//NONSGML plone.app.event//EN
X-WR-TIMEZONE:Europe/Madrid
BEGIN:VEVENT
SUMMARY:Per una revetlla alternativa...
DTSTART;TZID=Europe/Madrid;VALUE=DATE-TIME:20080623T000000
DTEND;TZID=Europe/Madrid;VALUE=DATE-TIME:20080623T010000
DTSTAMP;VALUE=DATE-TIME:20260423T064737Z
UID:f7e84e5cdfc59299aeca4249a5e5a73f
CREATED;VALUE=DATE-TIME:20080623T000000Z
LOCATION:Passeig Marítim
ORGANIZER:Los Montoya i Colla de Diables
DESCRIPTION:Dintre dels actes organitzats per celebrar la Festa Major 2008
URL:https://www.canetdemar.cat/document.php?id=4298
END:VEVENT
END:VCALENDAR