BEGIN:VCALENDAR
VERSION:2.0
PRODID:-//Plone.org//NONSGML plone.app.event//EN
X-WR-TIMEZONE:Europe/Madrid
BEGIN:VEVENT
SUMMARY:Revetlla de Sant Joan amb l'Orquestra La Comparsa
DTSTART;TZID=Europe/Madrid;VALUE=DATE-TIME:20080623T230000
DTEND;TZID=Europe/Madrid;VALUE=DATE-TIME:20080624T000000
DTSTAMP;VALUE=DATE-TIME:20260426T013648Z
UID:33bab48af8c4b4210f0b0623b3d9e44c
CREATED;VALUE=DATE-TIME:20080623T000000Z
LOCATION:Plaça 11 de Setembre
ORGANIZER:Àrea de Festes
DESCRIPTION:Dintre dels actes organitzats per celebrar la Festa Major 2008
URL:https://www.canetdemar.cat/document.php?id=4297
END:VEVENT
END:VCALENDAR