BEGIN:VCALENDAR
VERSION:2.0
PRODID:-//Plone.org//NONSGML plone.app.event//EN
X-WR-TIMEZONE:Europe/Madrid
BEGIN:VEVENT
SUMMARY:Dia Internacional dels museus
DTSTART;TZID=Europe/Madrid;VALUE=DATE-TIME:20080518T000000
DTEND;TZID=Europe/Madrid;VALUE=DATE-TIME:20080518T010000
DTSTAMP;VALUE=DATE-TIME:20260423T132015Z
UID:bf7df3a69706f0074133e90596ff52df
CREATED;VALUE=DATE-TIME:20080518T000000Z
LOCATION:Casa museu Lluís Domènech i Montaner
ORGANIZER:Casa museu
COMMENT:Preu: Entrada gratuïta
Durada: de les 10.00 a les 14.00 hores
URL:https://www.canetdemar.cat/document.php?id=4295
END:VEVENT
END:VCALENDAR