BEGIN:VCALENDAR
VERSION:2.0
PRODID:-//Plone.org//NONSGML plone.app.event//EN
X-WR-TIMEZONE:Europe/Madrid
BEGIN:VEVENT
SUMMARY:Nit de teatre de maig
DTSTART;TZID=Europe/Madrid;VALUE=DATE-TIME:20080528T191500
DTEND;TZID=Europe/Madrid;VALUE=DATE-TIME:20080528T201500
DTSTAMP;VALUE=DATE-TIME:20260423T234254Z
UID:18eaa097ef3c64f7a18c16104294ba2d
CREATED;VALUE=DATE-TIME:20080528T000000Z
LOCATION:Parada autobús Comediants
ORGANIZER:El Puntdi
COMMENT:Preu: 25 euros autocar i entrada al teatre
URL:https://www.canetdemar.cat/document.php?id=4195
END:VEVENT
END:VCALENDAR