BEGIN:VCALENDAR
VERSION:2.0
PRODID:-//Plone.org//NONSGML plone.app.event//EN
X-WR-TIMEZONE:Europe/Madrid
BEGIN:VEVENT
SUMMARY:Exposició: Pintura artística a l'oli
DTSTART;TZID=Europe/Madrid;VALUE=DATE-TIME:20080503T200000
DTEND;TZID=Europe/Madrid;VALUE=DATE-TIME:20080503T210000
DTSTAMP;VALUE=DATE-TIME:20260423T132253Z
UID:8e01502f4fd77ceac51d17c3b5a33d3c
CREATED;VALUE=DATE-TIME:20080503T000000Z
LOCATION:Estudi Tenas 1694
ORGANIZER:Estudi Tenas 1694
COMMENT:Durada: Del 3 de maig al 25 de maig
URL:https://www.canetdemar.cat/document.php?id=4187
END:VEVENT
END:VCALENDAR