BEGIN:VCALENDAR
VERSION:2.0
PRODID:-//Plone.org//NONSGML plone.app.event//EN
X-WR-TIMEZONE:Europe/Madrid
BEGIN:VEVENT
SUMMARY:Exposició del taller de dibuix i pintura de Vil·la Flora
DTSTART;TZID=Europe/Madrid;VALUE=DATE-TIME:20080523T000000
DTEND;TZID=Europe/Madrid;VALUE=DATE-TIME:20080523T010000
DTSTAMP;VALUE=DATE-TIME:20260424T161451Z
UID:79d0c1c65bb1c9e8c552ca08b94197fb
CREATED;VALUE=DATE-TIME:20080523T000000Z
LOCATION:Sala municipal d'exposicions
COMMENT:Durada: Del 23 al 31 de maig
URL:https://www.canetdemar.cat/document.php?id=4185
END:VEVENT
END:VCALENDAR