BEGIN:VCALENDAR
VERSION:2.0
PRODID:-//Plone.org//NONSGML plone.app.event//EN
X-WR-TIMEZONE:Europe/Madrid
BEGIN:VEVENT
SUMMARY:Reunió d'avaluació de la Mostra 2008
DTSTART;TZID=Europe/Madrid;VALUE=DATE-TIME:20080527T193000
DTEND;TZID=Europe/Madrid;VALUE=DATE-TIME:20080527T203000
DTSTAMP;VALUE=DATE-TIME:20260425T192319Z
UID:b72a57c1cc2a6620fc91d930067aec4b
CREATED;VALUE=DATE-TIME:20080527T000000Z
LOCATION:Escola de Teixits
ORGANIZER:Àrea de Participació i Ciutadania
DESCRIPTION:Comissió Permanent de la Mostra d'Entitats
URL:https://www.canetdemar.cat/document.php?id=4180
END:VEVENT
END:VCALENDAR