BEGIN:VCALENDAR
VERSION:2.0
PRODID:-//Plone.org//NONSGML plone.app.event//EN
X-WR-TIMEZONE:Europe/Madrid
BEGIN:VEVENT
SUMMARY:13è Concurs popular de Fotografia 2008
DTSTART;TZID=Europe/Madrid;VALUE=DATE-TIME:20080704T000000
DTEND;TZID=Europe/Madrid;VALUE=DATE-TIME:20080704T010000
DTSTAMP;VALUE=DATE-TIME:20260423T201018Z
UID:d4da7a01f51072cef8030fbc9e236ec1
CREATED;VALUE=DATE-TIME:20080704T000000Z
ORGANIZER:Àrea de Joventut - El Puntdi
DESCRIPTION:Dintre dels actes programats per a la Festa Major
URL:https://www.canetdemar.cat/document.php?id=4158
END:VEVENT
END:VCALENDAR