BEGIN:VCALENDAR
VERSION:2.0
PRODID:-//Plone.org//NONSGML plone.app.event//EN
X-WR-TIMEZONE:Europe/Madrid
BEGIN:VEVENT
SUMMARY:VIa Mostra d'Entitats
DTSTART;TZID=Europe/Madrid;VALUE=DATE-TIME:20080419T100000
DTEND;TZID=Europe/Madrid;VALUE=DATE-TIME:20080419T110000
DTSTAMP;VALUE=DATE-TIME:20260423T120006Z
UID:c4fd38cb3c5f0c59f78d802e746c858a
CREATED;VALUE=DATE-TIME:20080419T000000Z
LOCATION:Carrer i places del centre de Canet de Mar
ORGANIZER:Participació i Ciutadania
COMMENT:Durada: El cap de setmana 19-20 d'abril
DESCRIPTION:Programació d'activitats
URL:https://www.canetdemar.cat/document.php?id=4139
END:VEVENT
END:VCALENDAR