BEGIN:VCALENDAR
VERSION:2.0
PRODID:-//Plone.org//NONSGML plone.app.event//EN
X-WR-TIMEZONE:Europe/Madrid
BEGIN:VEVENT
SUMMARY:Sardanes
DTSTART;TZID=Europe/Madrid;VALUE=DATE-TIME:20030816T220000
DTEND;TZID=Europe/Madrid;VALUE=DATE-TIME:20030816T230000
DTSTAMP;VALUE=DATE-TIME:20260422T091653Z
UID:1d2edda5965eef0734ecf918f1eab051
CREATED;VALUE=DATE-TIME:20030816T000000Z
URL:https://www.canetdemar.cat/document.php?id=413
END:VEVENT
END:VCALENDAR