BEGIN:VCALENDAR
VERSION:2.0
PRODID:-//Plone.org//NONSGML plone.app.event//EN
X-WR-TIMEZONE:Europe/Madrid
BEGIN:VEVENT
SUMMARY:Concert de percussió a càrrec d'Akliso
DTSTART;TZID=Europe/Madrid;VALUE=DATE-TIME:20080607T200000
DTEND;TZID=Europe/Madrid;VALUE=DATE-TIME:20080607T210000
DTSTAMP;VALUE=DATE-TIME:20260425T161100Z
UID:18d5e0ce64dad0fbf16a3a2ac3a81316
CREATED;VALUE=DATE-TIME:20080607T000000Z
DESCRIPTION:VI Festival Re-Percussió per l'Odèon
URL:https://www.canetdemar.cat/document.php?id=4126
END:VEVENT
END:VCALENDAR