BEGIN:VCALENDAR
VERSION:2.0
PRODID:-//Plone.org//NONSGML plone.app.event//EN
X-WR-TIMEZONE:Europe/Madrid
BEGIN:VEVENT
SUMMARY:Pinzellades
DTSTART;TZID=Europe/Madrid;VALUE=DATE-TIME:20080425T000000
DTEND;TZID=Europe/Madrid;VALUE=DATE-TIME:20080425T010000
DTSTAMP;VALUE=DATE-TIME:20260422T162728Z
UID:aaab6e42f0cb63385feaabea1611f3bf
CREATED;VALUE=DATE-TIME:20080425T000000Z
LOCATION:Sala municipal d'exposicions
COMMENT:Durada: Del 25 d'abril al 8 de maig
DESCRIPTION:Exposició de Maria Àngels Roig
URL:https://www.canetdemar.cat/document.php?id=4091
END:VEVENT
END:VCALENDAR