BEGIN:VCALENDAR
VERSION:2.0
PRODID:-//Plone.org//NONSGML plone.app.event//EN
X-WR-TIMEZONE:Europe/Madrid
BEGIN:VEVENT
SUMMARY:Presentació del llibre infantil
DTSTART;TZID=Europe/Madrid;VALUE=DATE-TIME:20080423T180000
DTEND;TZID=Europe/Madrid;VALUE=DATE-TIME:20080423T190000
DTSTAMP;VALUE=DATE-TIME:20260422T235347Z
UID:3439dcdd5cff07a05a6dd07cb29c323a
CREATED;VALUE=DATE-TIME:20080423T000000Z
LOCATION:Biblioteca
ORGANIZER:Biblioteca P. Gual i Pujadas
DESCRIPTION:La Maduixa gegant
URL:https://www.canetdemar.cat/document.php?id=4088
END:VEVENT
END:VCALENDAR