BEGIN:VCALENDAR
VERSION:2.0
PRODID:-//Plone.org//NONSGML plone.app.event//EN
X-WR-TIMEZONE:Europe/Madrid
BEGIN:VEVENT
SUMMARY:Cinema infantil
DTSTART;TZID=Europe/Madrid;VALUE=DATE-TIME:20080413T190000
DTEND;TZID=Europe/Madrid;VALUE=DATE-TIME:20080413T200000
DTSTAMP;VALUE=DATE-TIME:20260424T102827Z
UID:2e78100b7b7b88c84b67a59a9a87c645
CREATED;VALUE=DATE-TIME:20080413T000000Z
LOCATION:Envelat de Vil·la Flora
ORGANIZER:Àrea de Cultura
COMMENT:Preu: 3 euros, menors de 4 anys gratuït. Invitació per adult acompanyant
DESCRIPTION:El nen que volia ser un ós
URL:https://www.canetdemar.cat/document.php?id=4086
END:VEVENT
END:VCALENDAR