BEGIN:VCALENDAR
VERSION:2.0
PRODID:-//Plone.org//NONSGML plone.app.event//EN
X-WR-TIMEZONE:Europe/Madrid
BEGIN:VEVENT
SUMMARY:Hora del conte
DTSTART;TZID=Europe/Madrid;VALUE=DATE-TIME:20080412T120000
DTEND;TZID=Europe/Madrid;VALUE=DATE-TIME:20080412T130000
DTSTAMP;VALUE=DATE-TIME:20260424T050602Z
UID:20aa16ac186563892ccf078e954cfa67
CREATED;VALUE=DATE-TIME:20080412T000000Z
LOCATION:Biblioteca
ORGANIZER:Biblioteca P. Gual i Pujadas
DESCRIPTION:a càrrec de Maribel Illescas
URL:https://www.canetdemar.cat/document.php?id=4084
END:VEVENT
END:VCALENDAR