BEGIN:VCALENDAR
VERSION:2.0
PRODID:-//Plone.org//NONSGML plone.app.event//EN
X-WR-TIMEZONE:Europe/Madrid
BEGIN:VEVENT
SUMMARY:EXPOSICIÓ i SUBHASTA de les obres del concurs de Pintura Golfa
DTSTART;TZID=Europe/Madrid;VALUE=DATE-TIME:20030720T000000
DTEND;TZID=Europe/Madrid;VALUE=DATE-TIME:20030720T010000
DTSTAMP;VALUE=DATE-TIME:20260422T073110Z
UID:0130a351632483c456a0dc9268c16ded
CREATED;VALUE=DATE-TIME:20030720T000000Z
DESCRIPTION:del 13 al 20 de juliol
URL:https://www.canetdemar.cat/document.php?id=408
END:VEVENT
END:VCALENDAR