BEGIN:VCALENDAR
VERSION:2.0
PRODID:-//Plone.org//NONSGML plone.app.event//EN
X-WR-TIMEZONE:Europe/Madrid
BEGIN:VEVENT
SUMMARY:Teatre: Mil i un amors
DTSTART;TZID=Europe/Madrid;VALUE=DATE-TIME:20080224T181500
DTEND;TZID=Europe/Madrid;VALUE=DATE-TIME:20080224T191500
DTSTAMP;VALUE=DATE-TIME:20260423T153157Z
UID:ef3de47409ee9de9b8cffbcd44ebf779
CREATED;VALUE=DATE-TIME:20080224T000000Z
LOCATION:Centre Parroquial
ORGANIZER:Centre Parroquial
DESCRIPTION:XXXIVè concurs de teatre aficionat. Premi Pedracastell
URL:https://www.canetdemar.cat/document.php?id=3962
END:VEVENT
END:VCALENDAR