BEGIN:VCALENDAR
VERSION:2.0
PRODID:-//Plone.org//NONSGML plone.app.event//EN
X-WR-TIMEZONE:Europe/Madrid
BEGIN:VEVENT
SUMMARY:X Pedalada
DTSTART;TZID=Europe/Madrid;VALUE=DATE-TIME:20030713T090000
DTEND;TZID=Europe/Madrid;VALUE=DATE-TIME:20030713T100000
DTSTAMP;VALUE=DATE-TIME:20260425T161115Z
UID:d4d41bc21f7579620b3b6bc3b8e35208
CREATED;VALUE=DATE-TIME:20030713T000000Z
URL:https://www.canetdemar.cat/document.php?id=395
END:VEVENT
END:VCALENDAR