BEGIN:VCALENDAR
VERSION:2.0
PRODID:-//Plone.org//NONSGML plone.app.event//EN
X-WR-TIMEZONE:Europe/Madrid
BEGIN:VEVENT
SUMMARY:Trobada d'escoles de bàsquet
DTSTART;TZID=Europe/Madrid;VALUE=DATE-TIME:20080316T090000
DTEND;TZID=Europe/Madrid;VALUE=DATE-TIME:20080316T100000
DTSTAMP;VALUE=DATE-TIME:20260421T123420Z
UID:9122dae96a3624fd325330b854957234
CREATED;VALUE=DATE-TIME:20080316T000000Z
CATEGORIES:Esports
ORGANIZER:CB Canet
COMMENT:Preu: gratuït
URL:https://www.canetdemar.cat/document.php?id=3937
END:VEVENT
END:VCALENDAR