BEGIN:VCALENDAR
VERSION:2.0
PRODID:-//Plone.org//NONSGML plone.app.event//EN
X-WR-TIMEZONE:Europe/Madrid
BEGIN:VEVENT
SUMMARY:Exposició de Vicenç Cabau i de Marc Roig Franco
DTSTART;TZID=Europe/Madrid;VALUE=DATE-TIME:20030727T000000
DTEND;TZID=Europe/Madrid;VALUE=DATE-TIME:20030727T010000
DTSTAMP;VALUE=DATE-TIME:20260423T013850Z
UID:843e8135f347d1296aee00636adedfed
CREATED;VALUE=DATE-TIME:20030727T000000Z
URL:https://www.canetdemar.cat/document.php?id=392
END:VEVENT
END:VCALENDAR