BEGIN:VCALENDAR
VERSION:2.0
PRODID:-//Plone.org//NONSGML plone.app.event//EN
X-WR-TIMEZONE:Europe/Madrid
BEGIN:VEVENT
SUMMARY:Història d'un cadiram
DTSTART;TZID=Europe/Madrid;VALUE=DATE-TIME:20080209T180000
DTEND;TZID=Europe/Madrid;VALUE=DATE-TIME:20080209T190000
DTSTAMP;VALUE=DATE-TIME:20260423T144943Z
UID:59d51d4f5b3bf2474331a7ea0f9b4f9b
CREATED;VALUE=DATE-TIME:20080209T000000Z
LOCATION:Sala municipal d'exposicions
DESCRIPTION:Fotografies homenatge a Mossèn Josep Arges
URL:https://www.canetdemar.cat/document.php?id=3914
END:VEVENT
END:VCALENDAR