BEGIN:VCALENDAR
VERSION:2.0
PRODID:-//Plone.org//NONSGML plone.app.event//EN
X-WR-TIMEZONE:Europe/Madrid
BEGIN:VEVENT
SUMMARY:Rua infantil de les escoles
DTSTART;TZID=Europe/Madrid;VALUE=DATE-TIME:20080201T150000
DTEND;TZID=Europe/Madrid;VALUE=DATE-TIME:20080201T160000
DTSTAMP;VALUE=DATE-TIME:20260423T033942Z
UID:2a73bfe6bdf08de02b154e680cd0046c
CREATED;VALUE=DATE-TIME:20080201T000000Z
ORGANIZER:Ajuntament i escoles de Canet de Mar
DESCRIPTION:dintre dels actes organitzats pel Carnaval 2008
URL:https://www.canetdemar.cat/document.php?id=3896
END:VEVENT
END:VCALENDAR