BEGIN:VCALENDAR
VERSION:2.0
PRODID:-//Plone.org//NONSGML plone.app.event//EN
X-WR-TIMEZONE:Europe/Madrid
BEGIN:VEVENT
SUMMARY:Gran gimcana-concurs del reciclatge a Canet
DTSTART;TZID=Europe/Madrid;VALUE=DATE-TIME:20080126T120000
DTEND;TZID=Europe/Madrid;VALUE=DATE-TIME:20080126T130000
DTSTAMP;VALUE=DATE-TIME:20260423T172004Z
UID:8fbe24a9e5c434d0147c04425f148939
CREATED;VALUE=DATE-TIME:20080126T000000Z
LOCATION:Riera Sant Domènec (davant de la Biblioteca)
DESCRIPTION:dintre dels actes organitzats per el Carnaval 2008
URL:https://www.canetdemar.cat/document.php?id=3894
END:VEVENT
END:VCALENDAR