BEGIN:VCALENDAR
VERSION:2.0
PRODID:-//Plone.org//NONSGML plone.app.event//EN
X-WR-TIMEZONE:Europe/Madrid
BEGIN:VEVENT
SUMMARY:Hora del conte a càrrec de Maribel Illescas
DTSTART;TZID=Europe/Madrid;VALUE=DATE-TIME:20080209T120000
DTEND;TZID=Europe/Madrid;VALUE=DATE-TIME:20080209T130000
DTSTAMP;VALUE=DATE-TIME:20260422T143847Z
UID:682247e89a18b437fe6d2c49feb3c911
CREATED;VALUE=DATE-TIME:20080209T000000Z
LOCATION:Sala infantil de la Biblioteca
ORGANIZER:Biblioteca P. Gual i Pujadas
DESCRIPTION:Campanya Un llibre per una rialla
URL:https://www.canetdemar.cat/document.php?id=3885
END:VEVENT
END:VCALENDAR