BEGIN:VCALENDAR
VERSION:2.0
PRODID:-//Plone.org//NONSGML plone.app.event//EN
X-WR-TIMEZONE:Europe/Madrid
BEGIN:VEVENT
SUMMARY:II Triennal d'Arquitectura del Maresme - XI Premis Puig i Cadafalch
DTSTART;TZID=Europe/Madrid;VALUE=DATE-TIME:20080118T200000
DTEND;TZID=Europe/Madrid;VALUE=DATE-TIME:20080118T210000
DTSTAMP;VALUE=DATE-TIME:20260423T132858Z
UID:cb827b2468e686325ea5014749b39965
CREATED;VALUE=DATE-TIME:20080118T000000Z
LOCATION:Casa museu Lluís Domènech i Montaner
ORGANIZER:Col·legi d'Arquitectes de Catalunya. Demarcació de Barcelona. Seu del Maresme
COMMENT:Durada: fins al 17 de febrer
URL:https://www.canetdemar.cat/document.php?id=3858
END:VEVENT
END:VCALENDAR