BEGIN:VCALENDAR
VERSION:2.0
PRODID:-//Plone.org//NONSGML plone.app.event//EN
X-WR-TIMEZONE:Europe/Madrid
BEGIN:VEVENT
SUMMARY:L'hora del conte a càrrec de Joan Bosch
DTSTART;TZID=Europe/Madrid;VALUE=DATE-TIME:20080126T120000
DTEND;TZID=Europe/Madrid;VALUE=DATE-TIME:20080126T130000
DTSTAMP;VALUE=DATE-TIME:20260422T221125Z
UID:4ed70a440b89af5038192e56a25c49b3
CREATED;VALUE=DATE-TIME:20080126T000000Z
LOCATION:Biblioteca
ORGANIZER:Biblioteca P. Gual i Pujadas
URL:https://www.canetdemar.cat/document.php?id=3843
END:VEVENT
END:VCALENDAR