BEGIN:VCALENDAR
VERSION:2.0
PRODID:-//Plone.org//NONSGML plone.app.event//EN
X-WR-TIMEZONE:Europe/Madrid
BEGIN:VEVENT
SUMMARY:Missatge de Cap d'any de l'Alcalde
DTSTART;TZID=Europe/Madrid;VALUE=DATE-TIME:20071231T120000
DTEND;TZID=Europe/Madrid;VALUE=DATE-TIME:20071231T130000
DTSTAMP;VALUE=DATE-TIME:20260423T053319Z
UID:b2711e6ed0b4ab6a4a4b22f4adb72f21
CREATED;VALUE=DATE-TIME:20071231T000000Z
LOCATION:Emissora Ràdio Canet
ORGANIZER:Ràdio Canet
URL:https://www.canetdemar.cat/document.php?id=3815
END:VEVENT
END:VCALENDAR