BEGIN:VCALENDAR
VERSION:2.0
PRODID:-//Plone.org//NONSGML plone.app.event//EN
X-WR-TIMEZONE:Europe/Madrid
BEGIN:VEVENT
SUMMARY:Jazz i neules
DTSTART;TZID=Europe/Madrid;VALUE=DATE-TIME:20071222T200000
DTEND;TZID=Europe/Madrid;VALUE=DATE-TIME:20071222T210000
DTSTAMP;VALUE=DATE-TIME:20260423T200948Z
UID:d20765ba52fa858908985e3bb0b264e3
CREATED;VALUE=DATE-TIME:20071222T000000Z
LOCATION:Casa museu Lluís Domènech i Montaner
ORGANIZER:Artenac
URL:https://www.canetdemar.cat/document.php?id=3801
END:VEVENT
END:VCALENDAR