BEGIN:VCALENDAR
VERSION:2.0
PRODID:-//Plone.org//NONSGML plone.app.event//EN
X-WR-TIMEZONE:Europe/Madrid
BEGIN:VEVENT
SUMMARY:El conte de Nadal
DTSTART;TZID=Europe/Madrid;VALUE=DATE-TIME:20071215T103000
DTEND;TZID=Europe/Madrid;VALUE=DATE-TIME:20071215T113000
DTSTAMP;VALUE=DATE-TIME:20260423T082833Z
UID:2ef8929a32068660f6bf45e71b64f0ba
CREATED;VALUE=DATE-TIME:20071215T000000Z
LOCATION:Col·legi Yglesias
ORGANIZER:Col·legi Yglesias
URL:https://www.canetdemar.cat/document.php?id=3771
END:VEVENT
END:VCALENDAR