BEGIN:VCALENDAR
VERSION:2.0
PRODID:-//Plone.org//NONSGML plone.app.event//EN
X-WR-TIMEZONE:Europe/Madrid
BEGIN:VEVENT
SUMMARY:Presentació de l'Agenda:  La Danza de la Tierra 2008
DTSTART;TZID=Europe/Madrid;VALUE=DATE-TIME:20071215T120000
DTEND;TZID=Europe/Madrid;VALUE=DATE-TIME:20071215T130000
DTSTAMP;VALUE=DATE-TIME:20260423T064609Z
UID:0d114bacc33e850dac145a99307d5ed9
CREATED;VALUE=DATE-TIME:20071215T000000Z
CATEGORIES:Literatura
LOCATION:Biblioteca P. Gual i Pujadas
ORGANIZER:CuraSana
COMMENT:Preu: entrada lliure
URL:https://www.canetdemar.cat/document.php?id=3765
END:VEVENT
END:VCALENDAR