BEGIN:VCALENDAR
VERSION:2.0
PRODID:-//Plone.org//NONSGML plone.app.event//EN
X-WR-TIMEZONE:Europe/Madrid
BEGIN:VEVENT
SUMMARY:Xerrada: Triem joguines
DTSTART;TZID=Europe/Madrid;VALUE=DATE-TIME:20071129T180000
DTEND;TZID=Europe/Madrid;VALUE=DATE-TIME:20071129T190000
DTSTAMP;VALUE=DATE-TIME:20260422T174621Z
UID:e71cb5fee43b71b204867b3060a6ac7f
CREATED;VALUE=DATE-TIME:20071129T000000Z
LOCATION:Llar d'infants El Palauet
ORGANIZER:AMPA El Palauet
DESCRIPTION:A càrrec de la pedagoga Isi Carretero
URL:https://www.canetdemar.cat/document.php?id=3756
END:VEVENT
END:VCALENDAR